BEGIN:VCALENDAR
METHOD:PUBLISH
VERSION:2.0
PRODID:-//Eventilla iCal Syndication//NONSGML Liana//EN
BEGIN:VEVENT
UID:WLr73@eventilla.com
DTSTAMP:20240926T060000Z
DTSTART:20240926T060000Z
DTEND:20240926T123000Z
SUMMARY:HyvÃ¤Ã¤ liikkeellÃ¤! â€“ liikunnan alueseminaari 2024
DESCRIPTION:Tervetuloa liikunnalliseen seminaariin\, jossa opit uutta\, verkostoidut ja pÃ¤Ã¤set myÃ¶s itse liikkumaan! Ohjelma on suunnattu varhaiskasvatuksen\, perusopetuksen ja toisen asteen henkilÃ¶stÃ¶lle sekÃ¤ harrastamisen ja liikkumisen edistÃ¤misen parissa tyÃ¶skenteleville. PÃ¤ivÃ¤ koostuu luennoista\, tyÃ¶pajoista ja verkostoitumisesta.Â \nMaksuton seminaari sisÃ¤ltÃ¤Ã¤ ohjelman sekÃ¤ aamukahvit. Lounas on omakustanteinen.\nSeminaarin jÃ¤rjestÃ¤vÃ¤t yhteistyÃ¶ssÃ¤ EtelÃ¤-Suomen aluehallintovirasto\, EtelÃ¤-Karjalan Liikunta ja Urheilu ry\, EtelÃ¤-Suomen Liikunta ja Urheilu ry\, HÃ¤meen Liikunta ja Urheilu ry\, Kymenlaakson Liikunta ry ja PÃ¤ijÃ¤t-HÃ¤meen Liikunta ja Urheilu ry.Â \nÂ \nKohderyhmÃ¤\n\nVarhaiskasvattajat ja varhaisvuosien liikunnan parissa toimivat\nKoulujen perusopetuksen henkilÃ¶stÃ¶\n2. asteen henkilÃ¶stÃ¶\nKuntien harrastustoiminnan koordinaattorit\n\nÂ \nOhjelma\n9.00-9.20Â  Â  Kahvi ja sÃ¤mpylÃ¤\n9.20-9.30Â  Â EtelÃ¤-Suomen aluehallintoviraston ajankohtaiset\n\nYlitarkastaja Anni Kettunen\, EtelÃ¤-Suomen aluehallintovirasto\n\n9.30-9.40Â  Liikunnan aluejÃ¤rjestÃ¶t kuntien tukena\n\nLasten ja nuorten liikunnallisen elÃ¤mÃ¤ntavan koordinaattori Petteri MÃ¤kelÃ¤\, Kymeenlaakson Liikunta ry\n\n9.45-10.30 Liikuntaan motivointi tilanteessa\, kun elÃ¤mÃ¤ntilanne tai voimavarat haastavat jaksamisenÂ \n\nTerhi KoivumÃ¤ki\, th\, tth\, TtM\, vÃ¤itÃ¶skirjatutkijaÂ \n\nTaukoliikuntaa\n10.35-10.45 Liikkuvien ajankohtaiset\n\nAntti Blom\, ohjelmajohtaja\, Liikkuvat -kokonaisuus\n\n10.45-11.30 Paneelikeskustelu - Toimintakykyinen Suomi ja kasvattajien tyÃ¶n merkitys siinÃ¤\n11.30-13.00Â  Lounas (omakustanteinen) + stadionkierros tai kehonhuoltotuokio\n\nLounastauon ohjelma tapahtuu porrastetusti.\nLounasmahdollisuudet stadionilla ovat klo 11.30-12.15 tai 12-12.45\nLounaan lisÃ¤ksi tauolla on mahdollista osallistua joko stadionkierrokselle tai kehonhuoltotuokioon.\nRiippuen lounaan ajankohdasta\, valittu aktiviteetti tapahtuu klo 11.30-12.00 tai 12.15-12.45.\n\n13.00-14.00Â  1. TyÃ¶paja\nsiirtyminen\n14.15-15.15Â  2. TyÃ¶paja\nÂ \nValitse ilmoittautumisen yhteydessÃ¤ kaksi eri tyÃ¶pajaa:\nÂ \nMove! toimintakyvyn ja hyvinvoinnin edistÃ¤misessÃ¤ (luentotilassa)\nensisijainen kohderyhmÃ¤: peruskoulu\nMove! on tyÃ¶kalu oppilaiden toimintakyvyn\, oppimisen ja hyvinvoinnin tukemiseksi. TyÃ¶pajassa kÃ¤sitellÃ¤Ã¤n Move!-jÃ¤rjestelmÃ¤n hyÃ¶dyntÃ¤mistÃ¤ kouluissa\, pohditaan yhteistyÃ¶tÃ¤ opetustoimen ja terveydenhuollon vÃ¤lillÃ¤ toimintakyvyn edistÃ¤miseksi sekÃ¤ esitellÃ¤Ã¤n malleja kuntien ja koulujen Move!-prosesseista. Tule hakemaan ideoita oman yhteisÃ¶si Move!-kokonaisuuden kehittÃ¤miseen.\n\nKouluttaja: Mikko Huhtiniemi\, projektipÃ¤Ã¤llikkÃ¶\, JyvÃ¤skylÃ¤n yliopisto\n\nÂ \nKÃ¤ytÃ¤nnÃ¶n malleja toiminnalliseen oppimiseen (luentotilassa)\nensisijainen kohderyhmÃ¤: peruskoulu\nMistÃ¤ uusia ideoita ja materiaaleja toiminnallistamaan oppitunteja? TyÃ¶pajassa saat vinkkejÃ¤ toiminnallisen materiaalin hankkimiseen ja tekemiseen. TyÃ¶pajan aikana testataan myÃ¶s kÃ¤ytÃ¤nnÃ¶ssÃ¤ eri harjoitteita.\n\nKouluttaja: Luokanopettaja\, erityisopettaja Minna TahvanainenÂ \n\nÂ \nLuonnonmukaiset pihat (luentotilassa)\nensisijainen kohderyhmÃ¤: varhaiskasvatus\, peruskoulu\nTule kuulemaan miten oppilaita on osallistettu koulu- ja pÃ¤ivÃ¤kotipihojen kehitÃ¤misessÃ¤. EsimerkkejÃ¤ maailmalta\, miten luontoa on lisÃ¤tty pihoille edistÃ¤mÃ¤Ã¤n liikuntaa ja ilmastonmuutoksen varautumiseen.\n\nKouluttaja Kristian Ã\nbacka\, yksikÃ¶n pÃ¤Ã¤llikkÃ¶\, EtelÃ¤-Suomen aluehallintovirasto\n\nÂ \nHJK â€“ monikulttuurisuus harrastetoiminnassa (luentotilassa)\nensisijainen kohderyhmÃ¤: peruskoulu\, harrastaminen\nTyÃ¶pajassa pÃ¤Ã¤set kuulemaan\, kuinka iso jalkapalloseura huomio omassa toiminnassaan monikulttuurisuuden. Ja mitÃ¤ kaikkea monikulttuurisuus HJK:ssa oikeastaan tarkoittaa? MinkÃ¤laisia kÃ¤ytÃ¤ntÃ¶jÃ¤ voi rakentaa sujuvamman arjen pyÃ¶rittÃ¤misessÃ¤.\n\nKouluttaja: Timo Muurinen\, kehityspÃ¤Ã¤llikkÃ¶\, Helsingin Jalkapalloklubi\n\nÂ \nRope skipping (toiminnallinen tila)\nensisijainen kohderyhmÃ¤: peruskoulu\, harrastaminen\, opiskelu\nHauskaa ja tehokasta yhdessÃ¤ liikkumista pitkÃ¤llÃ¤ narulla (long rope) joka sopii niin vasta-alkajalle kuin jo hyppineillekin\, koska narulla voi hyppiÃ¤ lukemattomilla eri tavoilla. Tule hakemaan vinkit liikuntaan\, jota voi tehdÃ¤ niin sisÃ¤llÃ¤ kuin ulkona. RyhmÃ¤ssÃ¤ tehtÃ¤vÃ¤t harjoitteet mahdollistavat kaikkien liikkujien osallistumisen\, sillÃ¤ pitkÃ¤n narun lÃ¤pi voi mennÃ¤ niin hyppien kuin pyÃ¶rÃ¤tuolillakin eli tule kysymÃ¤Ã¤n vinkkejÃ¤ myÃ¶s soveltavaan liikuntaan\, jos kaipaat niitÃ¤. Tavoitteena tehokkaat\, innostavat ja yhteisÃ¶lliset vinkit. Lenkkarit jalkaan tunnille.\n\nKouluttaja: Miriam HÃ¤gele\, Rope Skipping Helsinki\n\nÂ \nJekku-jÃ¤nÃ¶Â (toiminnallisessa tilassa)\nensisijainen kohderyhmÃ¤: varhaiskasvatus ja esiopetus\nJekku-jÃ¤nÃ¶ materiaalien avulla liikkuminen ja motoristen taitojen harjoittelu on hauska seikkailu! TyÃ¶pajassa tutustutaan Liikunnan aluejÃ¤rjestÃ¶jen maksuttomiin Jekku-jÃ¤nÃ¶-materiaaleihin ja niiden kÃ¤yttÃ¶Ã¶n varhaiskasvatuksessa. KÃ¤ytÃ¤nnÃ¶n harjoitteiden kautta Jekku-jÃ¤nÃ¶-materiaalit tulevat tutuiksi ja ne on helppo ottaa kÃ¤yttÃ¶Ã¶n omassa tyÃ¶ssÃ¤.\n\nKouluttajat: Virpi Koivula\, asiantuntija\, EtelÃ¤-Suomen Liikunta ja Urheilu ry ja Heidi MÃ¤lkÃ¶nen\, lasten ja nuorten liikunnan aluekehittÃ¤jÃ¤\, PÃ¤ijÃ¤t-HÃ¤meen Liikunta ja Urheilu ry\n\nÂ \nNassikkapainiÂ (toiminnallisessa tilassa)\nensisijainen kohderyhmÃ¤: varhaiskasvatus\, esi- ja alkuopetus\nNassikkapaini (4-7v) on Nallepainin (2-4v) ohella harrastajamÃ¤Ã¤rÃ¤ltÃ¤Ã¤n suurin ikÃ¤luokka lÃ¤hes kaikissa painiseuroissa. Sen suosio on kasvanut koko ajan monipuolisuutensa vuoksi. Se kehittÃ¤Ã¤ monipuolisesti liikunnan yleistaitoja ja siksi se otettu ohjelmistoon muissakin lajeissa ja enevÃ¤ssÃ¤ mÃ¤Ã¤rin pÃ¤ivÃ¤kodeissa. Varsin pienin vÃ¤linein toteutettava nassikkapaini on turvallista. SiinÃ¤ pÃ¤Ã¤see ohjaaja kertomaan tÃ¤rkeimmÃ¤t sÃ¤Ã¤nnÃ¶t\, jotka pÃ¤tee myÃ¶s normaaliin lasten elÃ¤mÃ¤Ã¤n: Ei saa lyÃ¶dÃ¤\, potkia tai muuten vahingoittaa paria. MyÃ¶s repiminen vaatteista ja hiuksista on kiellettyÃ¤. Reiluus nousee etualalle.\n\nKouluttaja: Helsingin Paini-Miehet HPM\n\nÂ \nRennosti joogaillenÂ (toiminnallisessa tilassa)\nensisijainen kohderyhmÃ¤: varhaiskasvatus\, peruskoulu\nArki on usein vauhdikasta ja Ã¤Ã¤nekÃ¤stÃ¤. Jokainen meistÃ¤ kaipaa toisinaan hengÃ¤hdyshetken ja tyÃ¶kaluja rentoutumiseen. TyÃ¶pajassa kurkistetaan lasten joogaan ja oivalletaan kuinka esimerkiksi jooga ja rentoutuminen nivoutuvat fyysisen aktiivisuuden suosituksiin.\nTervetuloa mukaan pysÃ¤htymÃ¤Ã¤n pieneen hengÃ¤hdyshetkeen juuri sellaisena kuin olet.\n\nKouluttaja: Kotkalainen Jaana Knude\, lasten ja nuorten joogaopettaja\, lasten\, perheiden ja nuorten liikuntaneuvoja\, lasten ja perheiden liikkumisen edistÃ¤jÃ¤\n\nÂ \nVireyttÃ¤ ja lÃ¤snÃ¤oloa opiskeluarkeen (toiminnallisessa tilassa)\nensisijainen kohderyhmÃ¤: opiskelu\nKokemuksellisessa tyÃ¶pajassa opit keinoja opiskelijoiden ja oman vireystilan sÃ¤Ã¤telyyn mindfulnessia ja kehollisia menetelmiÃ¤ hyÃ¶dyntÃ¤en. Ali- tai ylivireisenÃ¤ keskittyminen voi herpaantua ja toiminta muuttua tahmeammaksi. Ali- ja ylivireisenÃ¤ pitempÃ¤Ã¤n oleminen voi heikentÃ¤Ã¤ hyvinvointia. Vireystilaa voi oppia kuitenkin sÃ¤Ã¤telemÃ¤Ã¤n esimerkiksi tietoisuustaidoilla ja erilaisilla kehollisilla menetelmillÃ¤. Helpoilla harjoituksilla jokainen voi pysÃ¤htyÃ¤ oman kehon viestien Ã¤Ã¤relle ja reagoimaan niihin hyvinvointia tukevalla tavalla\n\nKouluttajat: Essi Nirhamo\, asiantuntija\, JyvÃ¤skylÃ¤n ammattikorkeakoulu\n\nÂ \nSumeneeko ajatus? â€“ Toiminnallisempi opiskelu freesaa (luentotilassa)\nensisijainen kohderyhmÃ¤: opiskelu\nOppituntien ei tarvitse olla pelkkÃ¤Ã¤ istumista toisellakaan asteella. Toiminnallisempi opiskelu freesaa\, parantaa viihtyvyyttÃ¤ ja auttaa oppimisessa. TÃ¤ssÃ¤ tyÃ¶pajassa saat maistiaisen Suomen liikunnan alueiden uudesta kokonaisuudesta\, jonka tavoitteena on antaa perusteluja aktiivisuuteen ja vinkkejÃ¤ liikkeen lisÃ¤Ã¤miseen oppitunneilla. Hannu Moilasen rakentama kokonaisuus koostuu kolmesta osasta ja on saataville syksyllÃ¤ 2024.\n\nKouluttajat: Petteri MÃ¤kelÃ¤\, Lasten ja nuorten liikunnan kehittÃ¤jÃ¤\, Kymenlaakson liikunta ry ja Sari LÃ¤hdesmÃ¤ki\, lasten ja nuorten liikunnan kehittÃ¤jÃ¤\, EtelÃ¤-Suomen Liikunta ja Urheilu ry\n\nÂ \nMuut tiedot\nHUOM! Ilmoittaudu pe 30.8.24 mennessÃ¤. TyÃ¶pajoissa maksimiosallistujamÃ¤Ã¤rÃ¤t\, jotka nÃ¤kyvÃ¤t ilmoittautumislomakkeella. Ko. TyÃ¶pajaan ilmoittautuminen sulkeutuu maksimiosallistujamÃ¤Ã¤rÃ¤n tÃ¤yttyessÃ¤.\nIlmoittautuneille lÃ¤hetetÃ¤Ã¤n seminaarikutsu\, joka sisÃ¤ltÃ¤Ã¤ tarkemmat tiedot\, viikolla 38.\nMuutokset ohjelmaan ovat mahdollisia.\nÂ \nLisÃ¤tietoja\nEtelÃ¤-Suomen aluehallintovirasto: Anni Kettunen\, anni.kettunen@avi.fi ja Ilpo Piri\, ilpo.piri@avi.fi\nEtelÃ¤-Karjalan Liikunta ja Urheilu: Lasse Heiskanen\, lasse.heiskanen@eklu.fi\nEtelÃ¤-Suomen Liikunta ja Urheilu: Sari LÃ¤hdesmÃ¤ki\, sari.lahdesmaki@eslu.fi ja Tarja Nieminen\, tarja.nieminen@eslu.fiÂ \nHÃ¤meen Liikunta ja Urheilu: Suvi Vuorela\, suvi.vuorela@hlu.fi\nKymenlaakson Liikunta: Petteri MÃ¤kelÃ¤\, petteri.makela@kymli.fi\nPÃ¤ijÃ¤t-HÃ¤meen Liikunta ja Urheilu: Heidi MÃ¤lkÃ¶nen\, heidi.malkonen@phlu.fi\nÂ \nIlmoittautumiseen liittyvÃ¤t tiedustelut:\nAnni Kettunen\, EtelÃ¤-Suomen aluehallintovirasto\,0295016397\, anni.kettunen@avi.fi
LOCATION:Olympiastadion, Helsinki\, Paavo Nurmen tie 1\, 00250\,
 Helsinki\, Suomi
URL:http://eventilla.avi.fi/event/WLr73
END:VEVENT
END:VCALENDAR
