BEGIN:VCALENDAR
METHOD:PUBLISH
VERSION:2.0
PRODID:-//Eventilla iCal Syndication//NONSGML Liana//EN
BEGIN:VEVENT
UID:N4VyA@eventilla.com
DTSTAMP:20240327T073000Z
DTSTART:20240327T073000Z
DTEND:20240327T130000Z
SUMMARY:Nuoret\, tulevaisuus ja hyvä elämä -seminaari
DESCRIPTION:“Dialogia ja ymmärrystä toistemme tekemisistä tarvitaan. Hyvä elämä nuorille rakennetaan yhdessä!”\nNuoret\, tulevaisuus ja hyvä elämä -seminaari tuo yhteen Pirkanmaan monialaisen yhteistyön ammattilaisia\, toimijoita\, verkostoja ja päättäjiä perehtymään\, keskustelemaan ja lisäämään ymmärrystä yhteisesti alueemme nuorille suunnattujen palveluiden nykyisestä tilasta sekä tulevaisuudesta. Keskeisinä teemoina seminaarissa ovat tarvelähtöinen monialainen yhteistyö\, nuorten hyvinvoinnin edistämisen rajapinnat sekä Pirkanmaan monialaisen yhteistyön tulevaisuus.\nPäivän konkreettisina tavoitteina on:\n\nMahdollistaa nuorille suunnatuissa palveluissa toimivien ammattilaisten\, päättäjien\, toimijoiden ja verkostojen kohtaaminen.\nTehdä näkyväksi monialaisen yhteistyön kehittämiskohtia ja mahdollisuuksia.\nTarkastella ja työstää yhteisiä tulevaisuuden näkymiä nuorten hyvästä elämästä ja monialaisen yhteistyön suuntaviivoista.\n\nSeminaarin järjestävät yhteistyössä Pirkanmaan hyvinvointialue ja Perhekeskus\, Kuntaliitto\, Länsi- ja Sisä-Suomen aluehallintovirasto ja Pirkanmaan nuorisotyön aluekoordinaatio yhteistyönä.\nOhjelma\nKeskiviikko 27.3.2024\n(8:00         Yhteiskyyti Tampereen rautatieasemalta kyytiin ilmoittautuneille)\n9:30          Saapuminen Nuorisokeskus Marttiseen\, aamukahvit\n10:00        Tervetuloa - seminaari alkaa\n\nTilannekuva: toimijat\, roolit\, rajapinnat ja nykyisyyden haasteet\nMiltä näyttää (monialaisen) yhteistyön tulevaisuus Pirkanmaalla?\n\n11:40         Johdatus tulevaisuusajatteluun - Nuorten hyvä elämä 2035\n12:00         Lounas (omakustanteinen)\n12:45         Ryhmätyöskentelyä:\n\nMonialainen yhteistyö nuorten hyvän elämän turvaajana tulevaisuudessa - keskeiset ilmiöt\, toivotut tulevaisuuskuvat ja yhteiset suuntaviivat\n\n14:30        Yhteenveto päivästä\n15:00        Kahvit ja päivän lopetus\n(15:30 Yhteiskyyti Tampereen rautatieasemalle)\n \nTule mukaan luomaan nuorille parempaa huomista!\nMuut tiedot\nTilaisuus on maksuton. Muutokset ohjelmaan ovat mahdollisia.\nJärjestämme seminaariin maksuttoman yhteiskyydin Tampereelta / Tampereelle ja tarjoamme osallistujille aamu- ja iltapäiväkahvit.\nIlmoittautuminen \nIlmoittautuminen 6.3.2024 mennessä: Ilmoittautuminen
LOCATION:Nuorisokeskus Marttinen, Virrat\, Herrasentie 16\, 34800\, Virrat
URL:http://eventilla.avi.fi/event/N4VyA
END:VEVENT
END:VCALENDAR
