BEGIN:VCALENDAR
METHOD:PUBLISH
VERSION:2.0
PRODID:-//Eventilla iCal Syndication//NONSGML Liana//EN
BEGIN:VEVENT
UID:5doQe@eventilla.com
DTSTAMP:20250924T110000Z
DTSTART:20250924T110000Z
DTEND:20250924T130000Z
SUMMARY:Koulu- ja oppilaitosnuorisotyön koulutusiltapäivä
DESCRIPTION:Aluehallintovirastojen nuorisotoimet järjestävät valtakunnallisen koulu- ja oppilaitosnuorisotyön koulutusiltapäivän 24.9. klo 14-16. Tilaisuus toteutetaan Teams-webinaarina. \nKoulunuorisotyöllä tuetaan nuorten kokonaisvaltaista hyvinvointia ja viihtyvyyttä\, vahvistetaan yhteisöllisyyttä ja ehkäistään kiusaamista. Koulunuorisotyö lisää myös nuorille turvallisen aikuisen läsnäoloa arkipäivään. Koulunuorisotyöntekijän vastuut eivät liity opetukseen tai suoritusarviointiin vaan näkökulma on nuorten kokonaisvaltainen kohtaaminen ja hyvinvoinnin tukeminen. \nIltapäivä on suunnattu erityisesti koulu- ja oppilaitosnuorisotyötä toteuttavien kohdekoulujen rehtoreille\, esihenkilöille sekä koulunuorisotyöntekijöille. Koulutusiltapäivän näkökulma on erityisesti AVI:n hankeavustuksella tehtävä koulu- ja oppilaitosnuorisotyö\, mutta koulutus sopii myös muille koulussa nuorisotyötä tekeville\, johtaville sekä muille aiheesta kiinnostuneille.\n \nOhjelma\n14:00 Tilaisuuden aloitus\n14:05 AVI:n näkökulma koulu- ja oppilaitosnuorisotyön avustuksen käyttöön\n\nKirsi-Marja Stewart\, Pohjois-Suomen aluehallintovirasto\n\n14:20 Koulu- ja oppilaitosnuorisotyön kehittämisen suuntia \n\nHeikki Kantonen & Marja Moisala\, koulu- ja oppilaitosnuorisotyön osaamiskeskus Nuoska\n\n15:00 NuoDo koulunuorisotyön seurantatyökaluna\n\nRuth Bamming\, Länsi- ja Sisä-Suomen aluehallintovirasto\n\n15:15 Case-esimerkki: ”Kuka näitä asioita on ennen hoitanut?”\n\nSaara Ojanperä\, koulunuorisotyöntekijä\, Sauvon kunta\n\n15:30 Case-esimerkki: "Nuorten äänitorvi suurella sydämellä" \n\nMarjo-Riitta Säisä\, koulunuorisotyöntekijä\, Iisalmen kaupunki\n\n15:45 Päätössanat\n\nMinna Riikka Järvinen\, kehittämiskeskus Opinkirjo\n\n \nMuut tiedot\nTilaisuus on maksuton. Muutokset ohjelmaan ovat mahdollisia. \nTilaisuus tallennetaan ja tallennelinkki on katseltavissa kahden viikon ajan sen lähettämisestä. Valitse ilmoittautuessasi osallistutko webinaarin vai tilaatko pelkän tallennelinkin. Linkki tallenteeseen lähetetään webinaariin ilmoittautuneille sekä tallenteen tilanneille noin viikon kuluessa tapahtumasta.   \nVoit halutessasi jättää ennakkokysymyksiä ilmoittautumisen yhteydessä. \nLisätietoja\nAliisa Paananen\, erikoissuunnittelijaaliisa.paananen@avi.fi\, p. 0295 018 848 \nMari Kanerva\, ylitarkastajamari.kanerva@avi.fi\, p. 0295 016 560 \nIlmoittautumiseen liittyvät tiedustelut:\nMarjo Ketonen\, erikoissuunnittelijamarjo.ketonen@avi.fi\, p. 0295 018 122
LOCATION:Teams-webinaari
URL:http://eventilla.avi.fi/event/5doQe
END:VEVENT
END:VCALENDAR
